BEGIN:VCALENDAR
VERSION:2.0
PRODID:-//jEvents 2.0 for Joomla//EN
CALSCALE:GREGORIAN
METHOD:PUBLISH
BEGIN:VEVENT
UID:CSVConvert91a267381eda45f13ec09ad0def97c32
CATEGORIES:Vencimientos
CREATED:20230323T174759
SUMMARY:Vencimiento SIRCAR - 1ra Quincena - 04/2019 (CUIT 5 a 9)
DESCRIPTION:
DTSTAMP:20260421T121113
DTSTART;TZID=America/Argentina/Buenos_Aires;VALUE=DATE:20190423
DTEND;TZID=America/Argentina/Buenos_Aires;VALUE=DATE:20190424
SEQUENCE:0
TRANSP:OPAQUE
END:VEVENT
END:VCALENDAR