BEGIN:VCALENDAR
VERSION:2.0
PRODID:-//jEvents 2.0 for Joomla//EN
CALSCALE:GREGORIAN
METHOD:PUBLISH
BEGIN:VEVENT
UID:CSVConvert902f1a5e97cf8b6161f9237b83bb5997
CATEGORIES:Vencimientos
CREATED:20230323T174759
SUMMARY:Vencimiento SIRCAR - 1ra Quincena - 08/2018 (CUIT 5 a 9)
DESCRIPTION:
DTSTAMP:20260421T221346
DTSTART;TZID=America/Argentina/Buenos_Aires;VALUE=DATE:20180823
DTEND;TZID=America/Argentina/Buenos_Aires;VALUE=DATE:20180824
SEQUENCE:0
TRANSP:OPAQUE
END:VEVENT
END:VCALENDAR