BEGIN:VCALENDAR
VERSION:2.0
PRODID:-//jEvents 2.0 for Joomla//EN
CALSCALE:GREGORIAN
METHOD:PUBLISH
BEGIN:VEVENT
UID:CSVConvert8e89024e8ebf48ca12aa27a36f64d2e4
CATEGORIES:Vencimientos
CREATED:20230323T174759
SUMMARY:Vencimiento SIFERE - Convenio Multilateral - 03/2018(CUIT 0 A 2)
DESCRIPTION:
DTSTAMP:20260421T202938
DTSTART;TZID=America/Argentina/Buenos_Aires;VALUE=DATE:20180416
DTEND;TZID=America/Argentina/Buenos_Aires;VALUE=DATE:20180417
SEQUENCE:0
TRANSP:OPAQUE
END:VEVENT
END:VCALENDAR