BEGIN:VCALENDAR
VERSION:2.0
PRODID:-//jEvents 2.0 for Joomla//EN
CALSCALE:GREGORIAN
METHOD:PUBLISH
BEGIN:VEVENT
UID:CSVConvert0e266662a34134378c9c9f58bbd28ec1
CATEGORIES:Vencimientos
CREATED:20230323T174737
SUMMARY:Vencimiento SIFERE - Convenio Multilateral - 02/2018(CUIT 3 A 5)
DESCRIPTION:
DTSTAMP:20260421T203336
DTSTART;TZID=America/Argentina/Buenos_Aires;VALUE=DATE:20180316
DTEND;TZID=America/Argentina/Buenos_Aires;VALUE=DATE:20180317
SEQUENCE:0
TRANSP:OPAQUE
END:VEVENT
END:VCALENDAR