BEGIN:VCALENDAR
VERSION:2.0
PRODID:-//jEvents 2.0 for Joomla//EN
CALSCALE:GREGORIAN
METHOD:PUBLISH
BEGIN:VEVENT
UID:CSVConvert8de4378cfd795d8e317c130b02c39787
CATEGORIES:Vencimientos
CREATED:20230323T174759
SUMMARY:Vencimiento SIRCAR - 1ra Quincena - 02/2018 (CUIT 0 a 4)
DESCRIPTION:
DTSTAMP:20260421T203803
DTSTART;TZID=America/Argentina/Buenos_Aires;VALUE=DATE:20180222
DTEND;TZID=America/Argentina/Buenos_Aires;VALUE=DATE:20180223
SEQUENCE:0
TRANSP:OPAQUE
END:VEVENT
END:VCALENDAR