BEGIN:VCALENDAR
VERSION:2.0
PRODID:-//jEvents 2.0 for Joomla//EN
CALSCALE:GREGORIAN
METHOD:PUBLISH
BEGIN:VEVENT
UID:CSVConvert8cdf98d18f5596eb85b46ff7bcd9a0a1
CATEGORIES:Vencimientos
CREATED:20230323T174759
SUMMARY:Vencimiento SIRCREB (Pago DDJJ - 2da. decena Mayo)
DESCRIPTION:
DTSTAMP:20260421T203121
DTSTART;TZID=America/Argentina/Buenos_Aires;VALUE=DATE:20180528
DTEND;TZID=America/Argentina/Buenos_Aires;VALUE=DATE:20180529
SEQUENCE:0
TRANSP:OPAQUE
END:VEVENT
END:VCALENDAR