BEGIN:VCALENDAR
VERSION:2.0
PRODID:-//jEvents 2.0 for Joomla//EN
CALSCALE:GREGORIAN
METHOD:PUBLISH
BEGIN:VEVENT
UID:CSVConvert8b07057d61e92915f5918683a6f616ee
CATEGORIES:Vencimientos
CREATED:20230323T174759
SUMMARY:Vencimiento SIRCREB (Pago DDJJ - 1ra. decena Noviembre)
DESCRIPTION:
DTSTAMP:20260422T022922
DTSTART;TZID=America/Argentina/Buenos_Aires;VALUE=DATE:20181116
DTEND;TZID=America/Argentina/Buenos_Aires;VALUE=DATE:20181117
SEQUENCE:0
TRANSP:OPAQUE
END:VEVENT
END:VCALENDAR