BEGIN:VCALENDAR
VERSION:2.0
PRODID:-//jEvents 2.0 for Joomla//EN
CALSCALE:GREGORIAN
METHOD:PUBLISH
BEGIN:VEVENT
UID:CSVConvert8aefd4b2348ef9cd4963f113e9bc5036
CATEGORIES:Vencimientos
CREATED:20230323T174759
SUMMARY:Vencimiento SIRCAR - 2da Quincena y Mensual - 06/2018 (CUIT 0 a 4)
DESCRIPTION:
DTSTAMP:20260421T203109
DTSTART;TZID=America/Argentina/Buenos_Aires;VALUE=DATE:20180710
DTEND;TZID=America/Argentina/Buenos_Aires;VALUE=DATE:20180711
SEQUENCE:0
TRANSP:OPAQUE
END:VEVENT
END:VCALENDAR