BEGIN:VCALENDAR
VERSION:2.0
PRODID:-//jEvents 2.0 for Joomla//EN
CALSCALE:GREGORIAN
METHOD:PUBLISH
BEGIN:VEVENT
UID:CSVConvert0db4509533f87cfb76415d4e0de50719
CATEGORIES:Vencimientos
CREATED:20230323T174737
SUMMARY:Vencimiento SIRCAR - 2da Quincena y Mensual - 10/2019 (CUIT 5 a 9)
DESCRIPTION:
DTSTAMP:20260421T152144
DTSTART;TZID=America/Argentina/Buenos_Aires;VALUE=DATE:20191111
DTEND;TZID=America/Argentina/Buenos_Aires;VALUE=DATE:20191112
SEQUENCE:0
TRANSP:OPAQUE
END:VEVENT
END:VCALENDAR