BEGIN:VCALENDAR
VERSION:2.0
PRODID:-//jEvents 2.0 for Joomla//EN
CALSCALE:GREGORIAN
METHOD:PUBLISH
BEGIN:VEVENT
UID:CSVConvert87ca9859192f2b133f0f02a337fef29c
CATEGORIES:Vencimientos
CREATED:20230323T174758
SUMMARY:Vencimiento SIRCREB (Presentacion DDJJ -3ra. decena Junio)
DESCRIPTION:
DTSTAMP:20260421T202823
DTSTART;TZID=America/Argentina/Buenos_Aires;VALUE=DATE:20180705
DTEND;TZID=America/Argentina/Buenos_Aires;VALUE=DATE:20180706
SEQUENCE:0
TRANSP:OPAQUE
END:VEVENT
END:VCALENDAR