BEGIN:VCALENDAR
VERSION:2.0
PRODID:-//jEvents 2.0 for Joomla//EN
CALSCALE:GREGORIAN
METHOD:PUBLISH
BEGIN:VEVENT
UID:CSVConvert87bb554ccceb7c5641aab2f52c000eae
CATEGORIES:Vencimientos
CREATED:20230323T174758
SUMMARY:Vencimiento SIRCREB (Presentacion DDJJ -1ra. decena Agosto)
DESCRIPTION:
DTSTAMP:20260421T221317
DTSTART;TZID=America/Argentina/Buenos_Aires;VALUE=DATE:20180816
DTEND;TZID=America/Argentina/Buenos_Aires;VALUE=DATE:20180817
SEQUENCE:0
TRANSP:OPAQUE
END:VEVENT
END:VCALENDAR