BEGIN:VCALENDAR
VERSION:2.0
PRODID:-//jEvents 2.0 for Joomla//EN
CALSCALE:GREGORIAN
METHOD:PUBLISH
BEGIN:VEVENT
UID:CSVConvert87a30f3510368cb55b9099f0809e0239
CATEGORIES:Vencimientos
CREATED:20230323T174758
SUMMARY:Vencimiento SIRCAR - 1ra Quincena - 11/2018 (CUIT 0 a 4)
DESCRIPTION:
DTSTAMP:20260421T221956
DTSTART;TZID=America/Argentina/Buenos_Aires;VALUE=DATE:20181122
DTEND;TZID=America/Argentina/Buenos_Aires;VALUE=DATE:20181123
SEQUENCE:0
TRANSP:OPAQUE
END:VEVENT
END:VCALENDAR