BEGIN:VCALENDAR
VERSION:2.0
PRODID:-//jEvents 2.0 for Joomla//EN
CALSCALE:GREGORIAN
METHOD:PUBLISH
BEGIN:VEVENT
UID:CSVConvert8774c8736777553aba914043715ad074
CATEGORIES:Vencimientos
CREATED:20230323T174758
SUMMARY:Vencimiento SIRCAR - 2da Quincena y Mensual - 12/2017 (CUIT 5 a 9)
DESCRIPTION:
DTSTAMP:20260421T185357
DTSTART;TZID=America/Argentina/Buenos_Aires;VALUE=DATE:20180110
DTEND;TZID=America/Argentina/Buenos_Aires;VALUE=DATE:20180111
SEQUENCE:0
TRANSP:OPAQUE
END:VEVENT
END:VCALENDAR