BEGIN:VCALENDAR
VERSION:2.0
PRODID:-//jEvents 2.0 for Joomla//EN
CALSCALE:GREGORIAN
METHOD:PUBLISH
BEGIN:VEVENT
UID:CSVConvert86f0b906596296c1ce89bdba926f1863
CATEGORIES:Vencimientos
CREATED:20230323T174758
SUMMARY:Vencimiento SIRCAR - 2da Quincena y Mensual - 08/2018 (CUIT 0 a 4)
DESCRIPTION:
DTSTAMP:20260421T222619
DTSTART;TZID=America/Argentina/Buenos_Aires;VALUE=DATE:20180910
DTEND;TZID=America/Argentina/Buenos_Aires;VALUE=DATE:20180911
SEQUENCE:0
TRANSP:OPAQUE
END:VEVENT
END:VCALENDAR