BEGIN:VCALENDAR
VERSION:2.0
PRODID:-//jEvents 2.0 for Joomla//EN
CALSCALE:GREGORIAN
METHOD:PUBLISH
BEGIN:VEVENT
UID:CSVConvert85ce864578ed4666413505a4a77efe5c
CATEGORIES:Vencimientos
CREATED:20230323T174758
SUMMARY:Vencimiento SIRCREB (Pago DDJJ - 2da. decena Julio)
DESCRIPTION:
DTSTAMP:20260421T204207
DTSTART;TZID=America/Argentina/Buenos_Aires;VALUE=DATE:20180727
DTEND;TZID=America/Argentina/Buenos_Aires;VALUE=DATE:20180728
SEQUENCE:0
TRANSP:OPAQUE
END:VEVENT
END:VCALENDAR