BEGIN:VCALENDAR
VERSION:2.0
PRODID:-//jEvents 2.0 for Joomla//EN
CALSCALE:GREGORIAN
METHOD:PUBLISH
BEGIN:VEVENT
UID:CSVConvert849afc766ac54a36c64d3f518293c0cb
CATEGORIES:Vencimientos
CREATED:20230323T174758
SUMMARY:Vencimiento SIRCREB (Pago DDJJ - 1ra. decena Septiembre)
DESCRIPTION:
DTSTAMP:20260421T221628
DTSTART;TZID=America/Argentina/Buenos_Aires;VALUE=DATE:20180917
DTEND;TZID=America/Argentina/Buenos_Aires;VALUE=DATE:20180918
SEQUENCE:0
TRANSP:OPAQUE
END:VEVENT
END:VCALENDAR