BEGIN:VCALENDAR
VERSION:2.0
PRODID:-//jEvents 2.0 for Joomla//EN
CALSCALE:GREGORIAN
METHOD:PUBLISH
BEGIN:VEVENT
UID:CSVConvert840a79a0203480b29c1522ed141da7cd
CATEGORIES:Vencimientos
CREATED:20230323T174758
SUMMARY:Vencimiento SIRCREB (Pago DDJJ - 3ra. decena Junio)
DESCRIPTION:
DTSTAMP:20260421T203120
DTSTART;TZID=America/Argentina/Buenos_Aires;VALUE=DATE:20180706
DTEND;TZID=America/Argentina/Buenos_Aires;VALUE=DATE:20180707
SEQUENCE:0
TRANSP:OPAQUE
END:VEVENT
END:VCALENDAR