BEGIN:VCALENDAR
VERSION:2.0
PRODID:-//jEvents 2.0 for Joomla//EN
CALSCALE:GREGORIAN
METHOD:PUBLISH
BEGIN:VEVENT
UID:CSVConvert0d466ffee6b6a84a33a85c729585eeb6
CATEGORIES:Vencimientos
CREATED:20230323T174737
SUMMARY:Vencimiento SIFERE - Convenio Multilateral - 10/2018(CUIT 3 A 5)
DESCRIPTION:
DTSTAMP:20260422T022922
DTSTART;TZID=America/Argentina/Buenos_Aires;VALUE=DATE:20181116
DTEND;TZID=America/Argentina/Buenos_Aires;VALUE=DATE:20181117
SEQUENCE:0
TRANSP:OPAQUE
END:VEVENT
END:VCALENDAR