BEGIN:VCALENDAR
VERSION:2.0
PRODID:-//jEvents 2.0 for Joomla//EN
CALSCALE:GREGORIAN
METHOD:PUBLISH
BEGIN:VEVENT
UID:CSVConvert8093a1a09540ccefe0b3f108a07629f5
CATEGORIES:Vencimientos
CREATED:20230323T174757
SUMMARY:Vencimiento SIRCREB (Presentacion DDJJ -1ra. decena Noviembre)
DESCRIPTION:
DTSTAMP:20260422T023143
DTSTART;TZID=America/Argentina/Buenos_Aires;VALUE=DATE:20181115
DTEND;TZID=America/Argentina/Buenos_Aires;VALUE=DATE:20181116
SEQUENCE:0
TRANSP:OPAQUE
END:VEVENT
END:VCALENDAR