BEGIN:VCALENDAR
VERSION:2.0
PRODID:-//jEvents 2.0 for Joomla//EN
CALSCALE:GREGORIAN
METHOD:PUBLISH
BEGIN:VEVENT
UID:CSVConvert7f65535c01a425811e57e09164339fb7
CATEGORIES:Vencimientos
CREATED:20230323T174757
SUMMARY:Vencimiento SIFERE - Convenio Multilateral - 05/2018(CUIT 0 A 2)
DESCRIPTION:
DTSTAMP:20260421T202939
DTSTART;TZID=America/Argentina/Buenos_Aires;VALUE=DATE:20180615
DTEND;TZID=America/Argentina/Buenos_Aires;VALUE=DATE:20180616
SEQUENCE:0
TRANSP:OPAQUE
END:VEVENT
END:VCALENDAR