BEGIN:VCALENDAR
VERSION:2.0
PRODID:-//jEvents 2.0 for Joomla//EN
CALSCALE:GREGORIAN
METHOD:PUBLISH
BEGIN:VEVENT
UID:CSVConvert7d359241c3abf9eb2221f5d003c9008e
CATEGORIES:Vencimientos
CREATED:20230323T174757
SUMMARY:Vencimiento SIFERE - Convenio Multilateral - 08/2018(CUIT 0 A 2)
DESCRIPTION:
DTSTAMP:20260421T221628
DTSTART;TZID=America/Argentina/Buenos_Aires;VALUE=DATE:20180917
DTEND;TZID=America/Argentina/Buenos_Aires;VALUE=DATE:20180918
SEQUENCE:0
TRANSP:OPAQUE
END:VEVENT
END:VCALENDAR