BEGIN:VCALENDAR
VERSION:2.0
PRODID:-//jEvents 2.0 for Joomla//EN
CALSCALE:GREGORIAN
METHOD:PUBLISH
BEGIN:VEVENT
UID:CSVConvert0d378d42dae6e9b14bb9acb680a1c478
CATEGORIES:Vencimientos
CREATED:20230323T174737
SUMMARY:Vencimiento SIRCAR - 1ra Quincena - 09/2019 (CUIT 0 a 4)
DESCRIPTION:
DTSTAMP:20260421T165940
DTSTART;TZID=America/Argentina/Buenos_Aires;VALUE=DATE:20190923
DTEND;TZID=America/Argentina/Buenos_Aires;VALUE=DATE:20190924
SEQUENCE:0
TRANSP:OPAQUE
END:VEVENT
END:VCALENDAR