BEGIN:VCALENDAR
VERSION:2.0
PRODID:-//jEvents 2.0 for Joomla//EN
CALSCALE:GREGORIAN
METHOD:PUBLISH
BEGIN:VEVENT
UID:CSVConvert7766fbdfe76ac05ea8bbe56b09ef32f1
CATEGORIES:Vencimientos
CREATED:20230323T174756
SUMMARY:Vencimiento SIRCREB (Presentación DDJJ -2da. decena Octubre)
DESCRIPTION:
DTSTAMP:20260421T114036
DTSTART;TZID=America/Argentina/Buenos_Aires;VALUE=DATE:20191024
DTEND;TZID=America/Argentina/Buenos_Aires;VALUE=DATE:20191025
SEQUENCE:0
TRANSP:OPAQUE
END:VEVENT
END:VCALENDAR