BEGIN:VCALENDAR
VERSION:2.0
PRODID:-//jEvents 2.0 for Joomla//EN
CALSCALE:GREGORIAN
METHOD:PUBLISH
BEGIN:VEVENT
UID:CSVConvert739d3cd3d91a2cdbc3832f1afe7f3379
CATEGORIES:Vencimientos
CREATED:20230323T174756
SUMMARY:Vencimiento SIFERE - Convenio Multilateral - 10/2019 (CUIT 6 y 7)
DESCRIPTION:
DTSTAMP:20260421T153003
DTSTART;TZID=America/Argentina/Buenos_Aires;VALUE=DATE:20191120
DTEND;TZID=America/Argentina/Buenos_Aires;VALUE=DATE:20191121
SEQUENCE:0
TRANSP:OPAQUE
END:VEVENT
END:VCALENDAR