BEGIN:VCALENDAR
VERSION:2.0
PRODID:-//jEvents 2.0 for Joomla//EN
CALSCALE:GREGORIAN
METHOD:PUBLISH
BEGIN:VEVENT
UID:CSVConvert71bc9d8df8d4127943513ae9ec281e64
CATEGORIES:Vencimientos
CREATED:20230323T174756
SUMMARY:Vencimiento SIRCREB (Presentacion DDJJ -2da. decena Agosto)
DESCRIPTION:
DTSTAMP:20260421T221532
DTSTART;TZID=America/Argentina/Buenos_Aires;VALUE=DATE:20180824
DTEND;TZID=America/Argentina/Buenos_Aires;VALUE=DATE:20180825
SEQUENCE:0
TRANSP:OPAQUE
END:VEVENT
END:VCALENDAR