BEGIN:VCALENDAR
VERSION:2.0
PRODID:-//jEvents 2.0 for Joomla//EN
CALSCALE:GREGORIAN
METHOD:PUBLISH
BEGIN:VEVENT
UID:CSVConvert0cb8331584058d9c99f1e621a8f59f3f
CATEGORIES:Vencimientos
CREATED:20230323T174737
SUMMARY:Vencimiento SIRCAR - 1ra Quincena - 05/2018 (CUIT 5 a 9)
DESCRIPTION:
DTSTAMP:20260421T203636
DTSTART;TZID=America/Argentina/Buenos_Aires;VALUE=DATE:20180523
DTEND;TZID=America/Argentina/Buenos_Aires;VALUE=DATE:20180524
SEQUENCE:0
TRANSP:OPAQUE
END:VEVENT
END:VCALENDAR