BEGIN:VCALENDAR
VERSION:2.0
PRODID:-//jEvents 2.0 for Joomla//EN
CALSCALE:GREGORIAN
METHOD:PUBLISH
BEGIN:VEVENT
UID:CSVConvert6fe5780405acb7e665465cc284d1330b
CATEGORIES:Vencimientos
CREATED:20230323T174756
SUMMARY:Vencimiento SIRCAR - 2da Quincena y Mensual - 10/2018 (CUIT 5 a 9)
DESCRIPTION:
DTSTAMP:20260422T023325
DTSTART;TZID=America/Argentina/Buenos_Aires;VALUE=DATE:20181112
DTEND;TZID=America/Argentina/Buenos_Aires;VALUE=DATE:20181113
SEQUENCE:0
TRANSP:OPAQUE
END:VEVENT
END:VCALENDAR