BEGIN:VCALENDAR
VERSION:2.0
PRODID:-//jEvents 2.0 for Joomla//EN
CALSCALE:GREGORIAN
METHOD:PUBLISH
BEGIN:VEVENT
UID:CSVConvert6c714231d076b7ee0b58be3222588267
CATEGORIES:Vencimientos
CREATED:20230323T174755
SUMMARY:Vencimiento SIRCAR - 2da Quincena y Mensual - 11/2018 (CUIT 5 a 9)
DESCRIPTION:
DTSTAMP:20260421T210050
DTSTART;TZID=America/Argentina/Buenos_Aires;VALUE=DATE:20181211
DTEND;TZID=America/Argentina/Buenos_Aires;VALUE=DATE:20181212
SEQUENCE:0
TRANSP:OPAQUE
END:VEVENT
END:VCALENDAR