BEGIN:VCALENDAR
VERSION:2.0
PRODID:-//jEvents 2.0 for Joomla//EN
CALSCALE:GREGORIAN
METHOD:PUBLISH
BEGIN:VEVENT
UID:CSVConvert6b65ea1068e1770a02faf98b93b0fe4a
CATEGORIES:Vencimientos
CREATED:20230323T174755
SUMMARY:Vencimiento SIFERE - Convenio Multilateral - 02/2019 (CUIT 3 a 5)
DESCRIPTION:
DTSTAMP:20260421T132846
DTSTART;TZID=America/Argentina/Buenos_Aires;VALUE=DATE:20190318
DTEND;TZID=America/Argentina/Buenos_Aires;VALUE=DATE:20190319
SEQUENCE:0
TRANSP:OPAQUE
END:VEVENT
END:VCALENDAR