BEGIN:VCALENDAR
VERSION:2.0
PRODID:-//jEvents 2.0 for Joomla//EN
CALSCALE:GREGORIAN
METHOD:PUBLISH
BEGIN:VEVENT
UID:CSVConvert6b36b7fb602ac7eb7cd28b5bb8f45c30
CATEGORIES:Vencimientos
CREATED:20230323T174755
SUMMARY:Vencimiento SIRCREB (Presentacion DDJJ -3ra. decena Octubre)
DESCRIPTION:
DTSTAMP:20260421T224911
DTSTART;TZID=America/Argentina/Buenos_Aires;VALUE=DATE:20181107
DTEND;TZID=America/Argentina/Buenos_Aires;VALUE=DATE:20181108
SEQUENCE:0
TRANSP:OPAQUE
END:VEVENT
END:VCALENDAR