BEGIN:VCALENDAR
VERSION:2.0
PRODID:-//jEvents 2.0 for Joomla//EN
CALSCALE:GREGORIAN
METHOD:PUBLISH
BEGIN:VEVENT
UID:CSVConvert6aa5afcbf222693071e6867392a5b53e
CATEGORIES:Vencimientos
CREATED:20230323T174755
SUMMARY:Vencimiento SIRCREB (Presentación DDJJ -2da. decena Septiembre)
DESCRIPTION:
DTSTAMP:20260421T165507
DTSTART;TZID=America/Argentina/Buenos_Aires;VALUE=DATE:20190926
DTEND;TZID=America/Argentina/Buenos_Aires;VALUE=DATE:20190927
SEQUENCE:0
TRANSP:OPAQUE
END:VEVENT
END:VCALENDAR