BEGIN:VCALENDAR
VERSION:2.0
PRODID:-//jEvents 2.0 for Joomla//EN
CALSCALE:GREGORIAN
METHOD:PUBLISH
BEGIN:VEVENT
UID:CSVConvert699d594cf638fce5ca1ceb23a278ee5b
CATEGORIES:Vencimientos
CREATED:20230323T174755
SUMMARY:Vencimiento SIRCREB (Presentacion DDJJ -2da. decena Enero)
DESCRIPTION:
DTSTAMP:20260421T210051
DTSTART;TZID=America/Argentina/Buenos_Aires;VALUE=DATE:20180125
DTEND;TZID=America/Argentina/Buenos_Aires;VALUE=DATE:20180126
SEQUENCE:0
TRANSP:OPAQUE
END:VEVENT
END:VCALENDAR