BEGIN:VCALENDAR
VERSION:2.0
PRODID:-//jEvents 2.0 for Joomla//EN
CALSCALE:GREGORIAN
METHOD:PUBLISH
BEGIN:VEVENT
UID:CSVConvert67d9f48f85e1d5dab0e3a83812159131
CATEGORIES:Vencimientos
CREATED:20230323T174754
SUMMARY:Vencimiento SIFERE - Convenio Multilateral - 04/2018(CUIT 6 A 7)
DESCRIPTION:
DTSTAMP:20260421T203718
DTSTART;TZID=America/Argentina/Buenos_Aires;VALUE=DATE:20180517
DTEND;TZID=America/Argentina/Buenos_Aires;VALUE=DATE:20180518
SEQUENCE:0
TRANSP:OPAQUE
END:VEVENT
END:VCALENDAR