BEGIN:VCALENDAR
VERSION:2.0
PRODID:-//jEvents 2.0 for Joomla//EN
CALSCALE:GREGORIAN
METHOD:PUBLISH
BEGIN:VEVENT
UID:CSVConvert0bae439bd14b5ae9456cf1aa9afd80e5
CATEGORIES:Vencimientos
CREATED:20230323T174736
SUMMARY:Vencimiento SIRCAR - 2da Quincena y Mensual - 11/2018 (CUIT 0 a 4)
DESCRIPTION:
DTSTAMP:20260421T205831
DTSTART;TZID=America/Argentina/Buenos_Aires;VALUE=DATE:20181210
DTEND;TZID=America/Argentina/Buenos_Aires;VALUE=DATE:20181211
SEQUENCE:0
TRANSP:OPAQUE
END:VEVENT
END:VCALENDAR