BEGIN:VCALENDAR
VERSION:2.0
PRODID:-//jEvents 2.0 for Joomla//EN
CALSCALE:GREGORIAN
METHOD:PUBLISH
BEGIN:VEVENT
UID:CSVConvert0081f6fb5e153422186e76cc0db14897
CATEGORIES:Vencimientos
CREATED:20230323T174735
SUMMARY:Vencimiento SIRCREB (Pago DDJJ - 2da. decena Octubre)
DESCRIPTION:
DTSTAMP:20260421T231502
DTSTART;TZID=America/Argentina/Buenos_Aires;VALUE=DATE:20181026
DTEND;TZID=America/Argentina/Buenos_Aires;VALUE=DATE:20181027
SEQUENCE:0
TRANSP:OPAQUE
END:VEVENT
END:VCALENDAR