BEGIN:VCALENDAR
VERSION:2.0
PRODID:-//jEvents 2.0 for Joomla//EN
CALSCALE:GREGORIAN
METHOD:PUBLISH
BEGIN:VEVENT
UID:CSVConvert65d180935228730be4328f485b635de6
CATEGORIES:Vencimientos
CREATED:20230323T174754
SUMMARY:Vencimiento SIFERE - Convenio Multilateral - 03/2019 (CUIT 8 y 9)
DESCRIPTION:
DTSTAMP:20260421T120821
DTSTART;TZID=America/Argentina/Buenos_Aires;VALUE=DATE:20190422
DTEND;TZID=America/Argentina/Buenos_Aires;VALUE=DATE:20190423
SEQUENCE:0
TRANSP:OPAQUE
END:VEVENT
END:VCALENDAR