BEGIN:VCALENDAR
VERSION:2.0
PRODID:-//jEvents 2.0 for Joomla//EN
CALSCALE:GREGORIAN
METHOD:PUBLISH
BEGIN:VEVENT
UID:CSVConvert62c4a5a1c3f79d9d8fb38be5f0d675bd
CATEGORIES:Vencimientos
CREATED:20230323T174754
SUMMARY:Vencimiento SIFERE - Convenio Multilateral - 07/2019 (CUIT 8 y 9)
DESCRIPTION:
DTSTAMP:20260421T132320
DTSTART;TZID=America/Argentina/Buenos_Aires;VALUE=DATE:20190821
DTEND;TZID=America/Argentina/Buenos_Aires;VALUE=DATE:20190822
SEQUENCE:0
TRANSP:OPAQUE
END:VEVENT
END:VCALENDAR