BEGIN:VCALENDAR
VERSION:2.0
PRODID:-//jEvents 2.0 for Joomla//EN
CALSCALE:GREGORIAN
METHOD:PUBLISH
BEGIN:VEVENT
UID:CSVConvert60f7e8817f4f1fc995a14660b2a61c8c
CATEGORIES:Vencimientos
CREATED:20230323T174753
SUMMARY:Vencimiento SIRCAR - 2da Quincena y Mensual - 09/2019 (CUIT 5 a 9)
DESCRIPTION:
DTSTAMP:20260421T132435
DTSTART;TZID=America/Argentina/Buenos_Aires;VALUE=DATE:20191009
DTEND;TZID=America/Argentina/Buenos_Aires;VALUE=DATE:20191010
SEQUENCE:0
TRANSP:OPAQUE
END:VEVENT
END:VCALENDAR