BEGIN:VCALENDAR
VERSION:2.0
PRODID:-//jEvents 2.0 for Joomla//EN
CALSCALE:GREGORIAN
METHOD:PUBLISH
BEGIN:VEVENT
UID:CSVConvert6055d84f7f04dd483c63dcacf98a284c
CATEGORIES:Vencimientos
CREATED:20230323T174753
SUMMARY:Vencimiento SIRCREB (Pago DDJJ - 3ra. decena Julio)
DESCRIPTION:
DTSTAMP:20260421T132159
DTSTART;TZID=America/Argentina/Buenos_Aires;VALUE=DATE:20190807
DTEND;TZID=America/Argentina/Buenos_Aires;VALUE=DATE:20190808
SEQUENCE:0
TRANSP:OPAQUE
END:VEVENT
END:VCALENDAR