BEGIN:VCALENDAR
VERSION:2.0
PRODID:-//jEvents 2.0 for Joomla//EN
CALSCALE:GREGORIAN
METHOD:PUBLISH
BEGIN:VEVENT
UID:CSVConvert0a6cb65f4be49d465add0101576c9dee
CATEGORIES:Vencimientos
CREATED:20230323T174736
SUMMARY:Vencimiento SIFERE - Convenio Multilateral - 11/2019 (CUIT 6 y 7)
DESCRIPTION:
DTSTAMP:20260421T132205
DTSTART;TZID=America/Argentina/Buenos_Aires;VALUE=DATE:20191218
DTEND;TZID=America/Argentina/Buenos_Aires;VALUE=DATE:20191219
SEQUENCE:0
TRANSP:OPAQUE
END:VEVENT
END:VCALENDAR