BEGIN:VCALENDAR
VERSION:2.0
PRODID:-//jEvents 2.0 for Joomla//EN
CALSCALE:GREGORIAN
METHOD:PUBLISH
BEGIN:VEVENT
UID:CSVConvert5d90dfaeaf42711352113b19623a5285
CATEGORIES:Vencimientos
CREATED:20230323T174753
SUMMARY:Vencimiento SIRCAR - 2da Quincena y Mensual - 08/2019 (CUIT 0 a 4)
DESCRIPTION:
DTSTAMP:20260421T132845
DTSTART;TZID=America/Argentina/Buenos_Aires;VALUE=DATE:20190909
DTEND;TZID=America/Argentina/Buenos_Aires;VALUE=DATE:20190910
SEQUENCE:0
TRANSP:OPAQUE
END:VEVENT
END:VCALENDAR