BEGIN:VCALENDAR
VERSION:2.0
PRODID:-//jEvents 2.0 for Joomla//EN
CALSCALE:GREGORIAN
METHOD:PUBLISH
BEGIN:VEVENT
UID:CSVConvert5b513374350c90426e8c46726e49798f
CATEGORIES:Vencimientos
CREATED:20230323T174753
SUMMARY:Vencimiento SIRCREB (Presentacion DDJJ -1ra. decena Mayo)
DESCRIPTION:
DTSTAMP:20260421T203703
DTSTART;TZID=America/Argentina/Buenos_Aires;VALUE=DATE:20180516
DTEND;TZID=America/Argentina/Buenos_Aires;VALUE=DATE:20180517
SEQUENCE:0
TRANSP:OPAQUE
END:VEVENT
END:VCALENDAR