BEGIN:VCALENDAR
VERSION:2.0
PRODID:-//jEvents 2.0 for Joomla//EN
CALSCALE:GREGORIAN
METHOD:PUBLISH
BEGIN:VEVENT
UID:CSVConvert5969f996ebe8a09cb2965baa966f2a7f
CATEGORIES:Vencimientos
CREATED:20230323T174752
SUMMARY:Vencimiento SIRCREB (Presentacion DDJJ -3ra. decena Marzo)
DESCRIPTION:
DTSTAMP:20260421T221348
DTSTART;TZID=America/Argentina/Buenos_Aires;VALUE=DATE:20180406
DTEND;TZID=America/Argentina/Buenos_Aires;VALUE=DATE:20180407
SEQUENCE:0
TRANSP:OPAQUE
END:VEVENT
END:VCALENDAR