BEGIN:VCALENDAR
VERSION:2.0
PRODID:-//jEvents 2.0 for Joomla//EN
CALSCALE:GREGORIAN
METHOD:PUBLISH
BEGIN:VEVENT
UID:CSVConvert5937d6a5e93dd3a2635264b82a1b09f4
CATEGORIES:Vencimientos
CREATED:20230323T174752
SUMMARY:Vencimiento SIFERE - Convenio Multilateral - 02/2019 (CUIT 8 y 9)
DESCRIPTION:
DTSTAMP:20260421T132328
DTSTART;TZID=America/Argentina/Buenos_Aires;VALUE=DATE:20190320
DTEND;TZID=America/Argentina/Buenos_Aires;VALUE=DATE:20190321
SEQUENCE:0
TRANSP:OPAQUE
END:VEVENT
END:VCALENDAR