BEGIN:VCALENDAR
VERSION:2.0
PRODID:-//jEvents 2.0 for Joomla//EN
CALSCALE:GREGORIAN
METHOD:PUBLISH
BEGIN:VEVENT
UID:CSVConvert536ec3bc61d4e789ee1a382c72208612
CATEGORIES:Vencimientos
CREATED:20230323T174752
SUMMARY:Vencimiento SIFERE - Convenio Multilateral - 08/2019 (CUIT 8 y 9)
DESCRIPTION:
DTSTAMP:20260421T165127
DTSTART;TZID=America/Argentina/Buenos_Aires;VALUE=DATE:20190919
DTEND;TZID=America/Argentina/Buenos_Aires;VALUE=DATE:20190920
SEQUENCE:0
TRANSP:OPAQUE
END:VEVENT
END:VCALENDAR