BEGIN:VCALENDAR
VERSION:2.0
PRODID:-//jEvents 2.0 for Joomla//EN
CALSCALE:GREGORIAN
METHOD:PUBLISH
BEGIN:VEVENT
UID:CSVConvert52ff6648461edf44af5af2272ba75955
CATEGORIES:Vencimientos
CREATED:20230323T174752
SUMMARY:Vencimiento SIRCREB (Pago DDJJ - 1ra. decena Abril)
DESCRIPTION:
DTSTAMP:20260421T203227
DTSTART;TZID=America/Argentina/Buenos_Aires;VALUE=DATE:20180417
DTEND;TZID=America/Argentina/Buenos_Aires;VALUE=DATE:20180418
SEQUENCE:0
TRANSP:OPAQUE
END:VEVENT
END:VCALENDAR