BEGIN:VCALENDAR
VERSION:2.0
PRODID:-//jEvents 2.0 for Joomla//EN
CALSCALE:GREGORIAN
METHOD:PUBLISH
BEGIN:VEVENT
UID:CSVConvert52f6a3b2d7f8c0754511154738dce99b
CATEGORIES:Vencimientos
CREATED:20230323T174752
SUMMARY:Vencimiento SIRCREB (Presentacion DDJJ -2da. decena Marzo)
DESCRIPTION:
DTSTAMP:20260421T202909
DTSTART;TZID=America/Argentina/Buenos_Aires;VALUE=DATE:20180326
DTEND;TZID=America/Argentina/Buenos_Aires;VALUE=DATE:20180327
SEQUENCE:0
TRANSP:OPAQUE
END:VEVENT
END:VCALENDAR