BEGIN:VCALENDAR
VERSION:2.0
PRODID:-//jEvents 2.0 for Joomla//EN
CALSCALE:GREGORIAN
METHOD:PUBLISH
BEGIN:VEVENT
UID:CSVConvert5287d1ebb2880518fbd26680968f92f9
CATEGORIES:Vencimientos
CREATED:20230323T174751
SUMMARY:Vencimiento SIRCAR - 2da Quincena y Mensual - 05/2018 (CUIT 0 a 4)
DESCRIPTION:
DTSTAMP:20260421T205411
DTSTART;TZID=America/Argentina/Buenos_Aires;VALUE=DATE:20180611
DTEND;TZID=America/Argentina/Buenos_Aires;VALUE=DATE:20180612
SEQUENCE:0
TRANSP:OPAQUE
END:VEVENT
END:VCALENDAR