BEGIN:VCALENDAR
VERSION:2.0
PRODID:-//jEvents 2.0 for Joomla//EN
CALSCALE:GREGORIAN
METHOD:PUBLISH
BEGIN:VEVENT
UID:CSVConvert4e85fcf06908f8b3d84d162ab98ca00d
CATEGORIES:Vencimientos
CREATED:20230323T174751
SUMMARY:Vencimiento SIFERE - Convenio Multilateral - 09/2018(CUIT 3 A 5)
DESCRIPTION:
DTSTAMP:20260421T221628
DTSTART;TZID=America/Argentina/Buenos_Aires;VALUE=DATE:20181017
DTEND;TZID=America/Argentina/Buenos_Aires;VALUE=DATE:20181018
SEQUENCE:0
TRANSP:OPAQUE
END:VEVENT
END:VCALENDAR