BEGIN:VCALENDAR
VERSION:2.0
PRODID:-//jEvents 2.0 for Joomla//EN
CALSCALE:GREGORIAN
METHOD:PUBLISH
BEGIN:VEVENT
UID:CSVConvert4d8f498f404f1b7e320201af92d22b9f
CATEGORIES:Vencimientos
CREATED:20230323T174751
SUMMARY:Vencimiento SIRCAR - 2da Quincena y Mensual - 10/2019 (CUIT 0 a 4)
DESCRIPTION:
DTSTAMP:20260421T153019
DTSTART;TZID=America/Argentina/Buenos_Aires;VALUE=DATE:20191108
DTEND;TZID=America/Argentina/Buenos_Aires;VALUE=DATE:20191109
SEQUENCE:0
TRANSP:OPAQUE
END:VEVENT
END:VCALENDAR